BEGIN:VCALENDAR
VERSION:2.0
PRODID:-//Perth Trail Series - ECPv6.15.20//NONSGML v1.0//EN
CALSCALE:GREGORIAN
METHOD:PUBLISH
X-ORIGINAL-URL:https://perthtrailseries.com.au
X-WR-CALDESC:Events for Perth Trail Series
REFRESH-INTERVAL;VALUE=DURATION:PT1H
X-Robots-Tag:noindex
X-PUBLISHED-TTL:PT1H
BEGIN:VTIMEZONE
TZID:Australia/Perth
BEGIN:STANDARD
TZOFFSETFROM:+0800
TZOFFSETTO:+0800
TZNAME:AWST
DTSTART:20250101T000000
END:STANDARD
END:VTIMEZONE
BEGIN:VEVENT
DTSTART;TZID=Australia/Perth:20260228T180000
DTEND;TZID=Australia/Perth:20260301T110000
DTSTAMP:20260420T234913
CREATED:20250807T055700Z
LAST-MODIFIED:20260224T225014Z
UID:10000039-1772301600-1772362800@perthtrailseries.com.au
SUMMARY:SOLD OUT Chitty Chitty Run Run
DESCRIPTION:Chitty Chitty Run Run: Night & Day Edition \nChitty has levelled up! We’ve got a two-day trail celebration to finish off the Summer Series. It’s scenic\, welcoming and your completion of an awesome Summer. Besides it’s on the Long Weekend holiday and the easiest step into being multi-day adventure ready. \nJoin us for: \n\nThe most fun you can have at night with your clothes on – Saturday Night\nStick around for camping\, sharing stories\, and celebrating the entire Summer Series\nThe final trail race of the the Summer Series – Sunday Morning\n***Optional on-site camping between the two events\n\nGreat tunes\, gorgeous trails\, and a welcoming community vibe.  \nCapture stunning photos while you’re discovering the beautiful town of Chittering. It’s the perfect weekend to bring friends\, family\, and visitors along for nature\, movement\, and feel-good energy!  \n\n\nThey’ll get to hangout with the party vibe of the DJ. We’ve had participants say “I felt like I was rockin up to an illegal bush doof and it was so exciting!”\nBBQs they can cook up a brekkie (or easy option is grab food from the foodtrucks)\nThey’ll hang at the village start/finish cheering you on!\n\nBenefits you get: \n\nBragging rights for doing something epic\nYou’ll be crazy energised with all the endorphins running through your body!\nIt’s the best feeling ever\nAn adventure different to anything you’ve ever done!\nTrails are the best thing for your health! Physical and mental!\na firm bum\n\nAnd what our runners have said: “Just an epic good time! I wish I did it sooner!” \nWe put course markings out\, tell you exactly where to go\, provide you with heaps of info and you’ll have truckloads of other people around you the whole time! It’s literally done for you\, just get your butt to the start line and you’ll walk away with a firmer one! We promise this! The time in nature really helps to reset your mind and prep you for your busy week ahead. \nHelp me pick my ticket! \nWe’ve got a fun colour coded system\, because we know how different trail is from your standard road distance. Here’s our guide\, but it’s up to you to decide what’s best for you. \nGreen: Walk or Run – It’s all about Fun! We all hike up the hills! Are you ready for Adventure and Nature?(Distances range from 4-6km on remote trail) \nBlue: You smile when you run. Occasionally stop for a photo. Our most popular choice! You’re able to run most of the distance (on road) (Distances range from 9-12km on remote trail) \nBlack: You’ve done our events before. You’ve been on trails. You’re an experienced adventurer and runner. You’re up for a challenge! (Distances range from 12-16km on remote trail) \nYou’ve always got the option to drop down in distance by letting us know on the day. We want you to have FUN! \n\n\nWhen do I collect my Event Bib? \nBib pickup for all events is on race day only at the Start/Finish. \nWill I receive more information? \nYes! The Wednesday prior to the event we send out the Event Brief email\, or you can dig into it NOW – CHITTY RACE BRIEF \nWhat time does my race start?  \n10 minute prior to race start Event Briefing *everyone must attend! \n6:45pm Black Course Start \n7:00pm Blue Course Start \n7.10pm Green Course Start \nSUNDAY \n10 minute prior to race start Event Briefing *everyone must attend! \n7:10am Black Course Start \n7:25am Blue Course Start \n7.35am Green Course Start \nMinimum age requirements for CHILDREN to enter the event? \nPTS Kids/Teens Policy \nWe love to welcome children to our events. \nChildren must meet some requirements: If your child meets the minimum age and experience requirement for an event you are welcome to register them into the event. \nGreen Course – minimum age is 6 years old. Child must be accompanied parent/guardian for the entirety of the Green Course if under the age of 12 years old. \nBlue Course – minimum age is 12 years old. Child must have completed three Green Course events prior to running a Blue course event. Child must be accompanied parent/guardian the first time running the Blue Course. \nBlack Course – minimum age is 16 years old. Child must have completed three Blue Course events prior to running a Black course event. Child must be accompanied by parent/guardian first time running the Black Course. \nWhen does registration close? \nRegistration will remain open until the Tuesday prior to the event unless sold out earlier. \nFor any other specifics\, it’s likely they’ve been answered on the website. \nCheck our the FAQs or Contact Us
URL:https://perthtrailseries.com.au/event/chitty-chitty-run-run/
LOCATION:Chittering\, Chinkabee Rd\, Bindoon\, WA\, 6502
ATTACH;FMTTYPE=image/png:https://perthtrailseries.com.au/wp-content/uploads/2025/07/Chitty-Banner.png
GEO:-31.387228;116.0989827
X-APPLE-STRUCTURED-LOCATION;VALUE=URI;X-ADDRESS=Chittering Chinkabee Rd Bindoon WA 6502;X-APPLE-RADIUS=500;X-TITLE=Chinkabee Rd:geo:116.0989827,-31.387228
END:VEVENT
BEGIN:VEVENT
DTSTART;TZID=Australia/Perth:20260329T070000
DTEND;TZID=Australia/Perth:20260329T103000
DTSTAMP:20260420T234913
CREATED:20260213T045348Z
LAST-MODIFIED:20260324T230917Z
UID:10000048-1774767600-1774780200@perthtrailseries.com.au
SUMMARY:SOLD OUT Stay Puft
DESCRIPTION:Join hundreds of other adventurers for an awesome Sunday morning! \n\nGet ready for an epic Ghost House Trail adventure!\nStart your morning doing something awesome\nCapture stunning photos of the scenic bushland of Yanchep National Park\nDo your humble brag on social media being like “Yep\, I was adventuring this morning….I’m badass!”\n\nThe location is amazing to bring along friends and family. \n\nThey’ll get to hang out at the start/finish at the Chocolate Drops Tearooms\, soaking up the fun\, social vibe.\nGrab something tasty from the tearoom\nThey’ll hang at the village start/finish cheering you on!\n\nBenefits you get: \n\nBragging rights for doing something epic\nYou’ll be crazy energised with all the endorphins running through your body!\nIt’s the best feeling ever\nAn adventure different to anything you’ve ever done!\nTrails are the best thing for your health! Physical and mental!\na firm bum\n\nAnd what our runners have said: “Just an epic good time! I wish I did it sooner!” \nWe put course markings out\, tell you exactly where to go\, provide you with heaps of info and you’ll have truckloads of other people around you the whole time! It’s literally done for you\, just get your butt to the start line and you’ll walk away with a firmer one! We promise this! The time in nature really helps to reset your mind and prep you for your busy week ahead. \nHelp me pick my ticket! \nWe’ve got a fun colour coded system\, because we know how different trail is from your standard road distance. Here’s our guide\, but it’s up to you to decide what’s best for you. \nGreen: Walk or Run – It’s all about Fun! We all hike up the hills! Are you ready for Adventure and Nature?(Distances range from 4-6km on remote trail) \nBlue: You smile when you run. Occasionally stop for a photo. Our most popular choice! You’re able to run most of the distance (on road) (Distances range from 9-12km on remote trail) \nBlack: You’ve done our events before. You’ve been on trails. You’re an experienced adventurer and runner. You’re up for a challenge! (Distances range from 12-16km on remote trail) \nYou’ve always got the option to drop down in distance by letting us know on the day. We want you to have FUN! \n\n\nWhen do I collect my Event Bib? \nBib pickup for all events is on race day only at the Start/Finish. \nWill I receive more information? \nYes! The Wednesday prior to the event we send out the Event Brief email\, or you can dig into it NOW – Stay Puft Event Brief \nWhat time does my race start? \n10 minute prior to race start Event Briefing *everyone must attend! \n8:10am Black Course Start \n8:25am Blue Course Start \n8.35am Green Course Start \nMinimum age requirements for CHILDREN to enter the event? \nPTS Kids/Teens Policy \nWe love to welcome children to our events. \nChildren must meet some requirements: If your child meets the minimum age and experience requirement for an event you are welcome to register them into the event. \nGreen Course – minimum age is 6 years old. Child must be accompanied parent/guardian for the entirety of the Green Course if under the age of 12 years old. \nBlue Course – minimum age is 12 years old. Child must have completed three Green Course events prior to running a Blue course event. Child must be accompanied parent/guardian the first time running the Blue Course. \nBlack Course – minimum age is 16 years old. Child must have completed three Blue Course events prior to running a Black course event. Child must be accompanied by parent/guardian first time running the Black Course. \nWhen does registration close? \nRegistration will remain open until the Tuesday prior to the event unless sold out earlier. \nPlease note: There will be a $15 increase due to DBCA permit fees. Park entry is required on arrival if you do not hold a parks pass. \nFor any other specifics\, it’s likely they’ve been answered on the website. \nCheck our the FAQs or Contact Us
URL:https://perthtrailseries.com.au/event/stay-puft/
LOCATION:Yanchep National Park / Chocolate Drops\, 3499 Wanneroo Rd\, Yanchep\, WA\, 6035\, Australia
ATTACH;FMTTYPE=image/png:https://perthtrailseries.com.au/wp-content/uploads/2026/02/Screenshot-2026-02-19-081823.png
GEO:-31.5364558;115.6816835
X-APPLE-STRUCTURED-LOCATION;VALUE=URI;X-ADDRESS=Yanchep National Park / Chocolate Drops 3499 Wanneroo Rd Yanchep WA 6035 Australia;X-APPLE-RADIUS=500;X-TITLE=3499 Wanneroo Rd:geo:115.6816835,-31.5364558
END:VEVENT
END:VCALENDAR